BEGIN:VCALENDAR
VERSION:2.0
PRODID:-//wp-events-plugin.com//6.4.7.1//EN
TZID:Europe/Stockholm
X-WR-TIMEZONE:Europe/Stockholm
BEGIN:VEVENT
UID:35@sahf.net
DTSTART;TZID=Europe/Stockholm:20250503T140000
DTEND;TZID=Europe/Stockholm:20250503T140000
DTSTAMP:20250303T125855Z
URL:https://sahf.net/kalender/oppet-stall-tarenas-arabstuteri-2/
SUMMARY:Öppet Stall Tärenäs Arabstuteri
DESCRIPTION:Öppet stall Tärenäs Arabstuteri\n\n3 maj  klockan 14:00\nF
 öranmälan till:\nCathrin Nehm 073-9175994 eller Andreas Nehm 0708-167897
LOCATION:https://www.google.com/maps/place/T%C3%A4ren%C3%A4s+%C3%96sterg%C3
 %A5rd+1,+573+97+Tran%C3%A5s/@57.9905878,14.7459875,17z/data=!3m1!4b1!4m6!3
 m5!1s0x465a2493c2c06817:0x3b4928d34944f158!8m2!3d57.990585!4d14.7485624!16
 s%2Fg%2F11vkffxj4v?entry=ttu&g_ep=EgoyMDI1MDEyMi4wIKXMDSoASAFQAw%3D%3D
END:VEVENT
BEGIN:VTIMEZONE
TZID:Europe/Stockholm
X-LIC-LOCATION:Europe/Stockholm
BEGIN:DAYLIGHT
DTSTART:20250330T030000
TZOFFSETFROM:+0100
TZOFFSETTO:+0200
TZNAME:CEST
END:DAYLIGHT
END:VTIMEZONE
END:VCALENDAR