BEGIN:VCALENDAR
VERSION:2.0
PRODID:-//wp-events-plugin.com//6.4.7.1//EN
TZID:Europe/Stockholm
X-WR-TIMEZONE:Europe/Stockholm
BEGIN:VEVENT
UID:54@sahf.net
DTSTART;TZID=Europe/Stockholm:20260505T190000
DTEND;TZID=Europe/Stockholm:20260505T200000
DTSTAMP:20260422T055858Z
URL:https://sahf.net/kalender/fragestund-om-sommarpremieringarna/
SUMMARY:Frågestund om Sommarpremieringarna
DESCRIPTION:SH välkomnar deltagare till en digital genomgång och frågest
 und om sommarpremieringar.\n"Vi går bland annat igenom skillnaden på uts
 tällning och premiering\, hur du anmäler till rätt klass och hur det g
 år till på sommarpremieringsplatsen. Du får även chansen att ställa a
 lla dina frågor och funderingar."\nTisdag 5 maj\nKl. 19:00-20:00\nDigital
 t via Teams\nAnmälan är öppen nu: https://svehast.se/anmalan-forelasnin
 g/forelasning-2/
END:VEVENT
BEGIN:VTIMEZONE
TZID:Europe/Stockholm
X-LIC-LOCATION:Europe/Stockholm
BEGIN:DAYLIGHT
DTSTART:20260329T030000
TZOFFSETFROM:+0100
TZOFFSETTO:+0200
TZNAME:CEST
END:DAYLIGHT
END:VTIMEZONE
END:VCALENDAR